BEGIN:VCALENDAR
VERSION:2.0
PRODID:-//wp-events-plugin.com//7.2.3.1//EN
TZID:Europe/Tallinn
X-WR-TIMEZONE:Europe/Tallinn
BEGIN:VEVENT
UID:60@juuru.edu.ee
DTSTART;TZID=Europe/Tallinn:20260427T134500
DTEND;TZID=Europe/Tallinn:20260427T153000
DTSTAMP:20260424T085946Z
URL:https://juuru.edu.ee/events/korgushuppe-gala/
SUMMARY:Kõrgushüppe "GALA"
DESCRIPTION:
ATTACH;FMTTYPE=image/jpeg:https://juuru.edu.ee/wp-content/uploads/2026/04/
 Gala-2026.jpg
END:VEVENT
BEGIN:VTIMEZONE
TZID:Europe/Tallinn
X-LIC-LOCATION:Europe/Tallinn
BEGIN:DAYLIGHT
DTSTART:20260329T040000
TZOFFSETFROM:+0200
TZOFFSETTO:+0300
TZNAME:EEST
END:DAYLIGHT
END:VTIMEZONE
END:VCALENDAR